BEGIN:VCALENDAR
VERSION:2.0
PRODID:icalendar-ruby
CALSCALE:GREGORIAN
METHOD:PUBLISH
BEGIN:VEVENT
DTSTAMP:20260424T032415Z
UID:76-361347@gracebaptisthuntsville.com
DTSTART:20260522T013000Z
DTEND:20260522T030000Z
CLASS:PUBLIC
CREATED:20260423T125426
DESCRIPTION:Join us for a powerful evening of music and encouragement at Gr
 ace Baptist Church! We are excited to host the men’s Proclaim Singing Gr
 oup from Pensacola Christian College. These traveling ministry teams share
  Christ through music\, testimonies\, and service as they visit churches a
 cross the country. \nCome be uplifted as this talented group presents a Ch
 rist-centered concert that will encourage your heart and strengthen your f
 aith.\nBring your family\, invite a friend\, and don’t miss this special
  night of music and ministry!
LAST-MODIFIED:20260423T125426
LOCATION:Grace Baptist Church
SUMMARY:Proclaim Tour Group
URL;VALUE=URI:https://www.gracebaptisthuntsville.com/events/proclaim-tour-g
 roup/2026-05-21
ATTACH;FILENAME=Proclaim-Winter25-Team-1.jpg;FMTTYPE=image/jpeg:https://dq5
 pwpg1q8ru0.cloudfront.net/2026/04/23/19/53/54/047f2edc-1e95-4554-926a-a20e
 d1ac2e3f/Proclaim-Winter25-Team-1.jpg
END:VEVENT
END:VCALENDAR
